BEGIN:VCALENDAR
VERSION:2.0
PRODID:Greensboro, NC Calendar Creator
METHOD:PUBLISH
BEGIN:VEVENT
DTSTAMP:20180109T031834
DTSTART:20111015T143000
DTEND:20111015T153000
SUMMARY:Benjamin Branch African American Book Group
DESCRIPTION:<p>Join us in discussing <em>Madonnas of Echo Park</em> by Brandon Skyhorse. Contact <a href="mailto:&#99;&#97;&#114;&#111;&#108;&#101;&#46;&#98;&#114;&#111;&#119;&#110;&#64;&#103;&#114;&#101;&#101;&#110;&#115;&#98;&#111;&#114;&#111;&#45;&#110;&#99;&#46;&#103;&#111;&#118;">Carole Campbell Brown</a>&nbsp;for more information and a copy of the book.</p>
X-ALT-DESC;FMTTYPE=text/html:<p>Join us in discussing <em>Madonnas of Echo Park</em> by Brandon Skyhorse. Contact <a href="mailto:&#99;&#97;&#114;&#111;&#108;&#101;&#46;&#98;&#114;&#111;&#119;&#110;&#64;&#103;&#114;&#101;&#101;&#110;&#115;&#98;&#111;&#114;&#111;&#45;&#110;&#99;&#46;&#103;&#111;&#118;">Carole Campbell Brown</a>&nbsp;for more information and a copy of the book.</p>
LOCATION:Benjamin Branch Library\, 1530 Benjamin Parkway Greensboro\, North Carolina 27408
CLASS:PUBLIC
END:VEVENT
END:VCALENDAR
