BEGIN:VCALENDAR
VERSION:2.0
PRODID:Greensboro, NC Calendar Creator
METHOD:PUBLISH
BEGIN:VEVENT
DTSTAMP:20180109T031834
DTSTART:20111117T190000
DTEND:20111117T200000
SUMMARY:Gardening for Birds
DESCRIPTION:Sponsored by the Piedmont Bird Club -&nbsp;Landscape designer Elizabeth Link&nbsp;will present ways to make your yard and garden more attractive to birds by providing food, shelter, and nesting spots.
X-ALT-DESC;FMTTYPE=text/html:Sponsored by the Piedmont Bird Club -&nbsp;Landscape designer Elizabeth Link&nbsp;will present ways to make your yard and garden more attractive to birds by providing food, shelter, and nesting spots.
LOCATION:Kathleen Clay Library\, 1420 Price Park Rd. Greensboro\, North Carolina 27410
CLASS:PUBLIC
END:VEVENT
END:VCALENDAR
