BEGIN:VCALENDAR
VERSION:2.0
PRODID:Greensboro, NC Calendar Creator
METHOD:PUBLISH
BEGIN:VEVENT
DTSTAMP:20180109T031834
DTSTART:20111011T100000
DTEND:20111011T113000
SUMMARY:Outlook on Careers in Weatherization & Better Buildings Initiatives
DESCRIPTION:Features Douglas Hall, special project consultant with Guilford Workforce Development. For more information, call 336-373-5922.
X-ALT-DESC;FMTTYPE=text/html:Features Douglas Hall, special project consultant with Guilford Workforce Development. For more information, call 336-373-5922.
LOCATION:JobLink Career Center\, 303 N. Raleigh St. Greensboro\, North Carolina 27401
CLASS:PUBLIC
END:VEVENT
END:VCALENDAR
