BEGIN:VCALENDAR
VERSION:2.0
PRODID:Greensboro, NC Calendar Creator
METHOD:PUBLISH
BEGIN:VEVENT
DTSTAMP:20180109T031834
DTSTART:20111030T150000
DTEND:20111030T170000
SUMMARY:Swing & Strings with Greensboro Big Band & Philharmonia of Greensboro
DESCRIPTION:Join the Greensboro Big Band and the Philharmonia of Greensboro for an afternoon of swing music and dancing.
X-ALT-DESC;FMTTYPE=text/html:Join the Greensboro Big Band and the Philharmonia of Greensboro for an afternoon of swing music and dancing.
LOCATION:Revolution Mill Studio Event Center\, 1000 Revolution Mill Dr Greensboro\, North Carolina 27405
CLASS:PUBLIC
END:VEVENT
END:VCALENDAR
