BEGIN:VCALENDAR
VERSION:2.0
PRODID:Greensboro, NC Calendar Creator
METHOD:PUBLISH
BEGIN:VEVENT
DTSTAMP:20180109T031834
DTSTART:20111003T173000
DTEND:20111003T193000
SUMMARY:Neighborhood Walk - District 5
DESCRIPTION:Touring&nbsp;the Lamrocton/Farmington neighborhoods. Review&nbsp;<a href="https://greensboro2.prod-as.govaccess.org/home/showpublisheddocument/11921/636510647144300000" target="_blank">route map</a> and <a href="http://www.greensboro-nc.gov/index.aspx?recordid=2136&amp;page=36" target="_self">read more</a>&nbsp;about the walks.
X-ALT-DESC;FMTTYPE=text/html:Touring&nbsp;the Lamrocton/Farmington neighborhoods. Review&nbsp;<a href="https://greensboro2.prod-as.govaccess.org/home/showpublisheddocument/11921/636510647144300000" target="_blank">route map</a> and <a href="http://www.greensboro-nc.gov/index.aspx?recordid=2136&amp;page=36" target="_self">read more</a>&nbsp;about the walks.
LOCATION:Smith High School\, 2407 S. Holden Rd. Greensboro\, North Carolina 
CLASS:PUBLIC
END:VEVENT
END:VCALENDAR
