BEGIN:VCALENDAR
VERSION:2.0
PRODID:Greensboro, NC Calendar Creator
METHOD:PUBLISH
BEGIN:VEVENT
DTSTAMP:20180109T031834
DTSTART:20111121T100000
DTEND:20111122T115900
SUMMARY:Job & Career: KSA Essays
DESCRIPTION:Knowledge, Skills and Abilities Essays (KSAs) are used in the application process for federal government jobs. This workshop will teach you how to write an effective essay.&nbsp;The Library&rsquo;s Job and Career Counselor will lead the session. Reserve your seat by calling&nbsp;the Reference Desk at 336-335-5430.
X-ALT-DESC;FMTTYPE=text/html:Knowledge, Skills and Abilities Essays (KSAs) are used in the application process for federal government jobs. This workshop will teach you how to write an effective essay.&nbsp;The Library&rsquo;s Job and Career Counselor will lead the session. Reserve your seat by calling&nbsp;the Reference Desk at 336-335-5430.
LOCATION:Central Library\, Room 208\, 219 N. Church Street Greensboro\, North Carolina 27409
CLASS:PUBLIC
END:VEVENT
END:VCALENDAR
