BEGIN:VCALENDAR
VERSION:2.0
PRODID:Greensboro, NC Calendar Creator
METHOD:PUBLISH
BEGIN:VEVENT
DTSTAMP:20260420T080753
DTSTART:20260426T143000
DTEND:20260426T170000
SUMMARY:"Alive" The Easter Experience
DESCRIPTION:<p>Alive: The Easter Experience is an immersive worship service designed to inspire faith and celebrate the risen Savior. </p><p>To purchase tickets ahead of time, <a href="https://www.eventbrite.com/e/alive-the-easter-experience-tickets-1984746292589?utm-campaign=social&amp;utm-content=attendeeshare&amp;utm-medium=discovery&amp;utm-term=listing&amp;utm-source=wsa&amp;aff=ebdsshwebmobile" target="_blank" rel="noopener">visit here</a>.</p>
X-ALT-DESC;FMTTYPE=text/html:<p>Alive: The Easter Experience is an immersive worship service designed to inspire faith and celebrate the risen Savior. </p><p>To purchase tickets ahead of time, <a href="https://www.eventbrite.com/e/alive-the-easter-experience-tickets-1984746292589?utm-campaign=social&amp;utm-content=attendeeshare&amp;utm-medium=discovery&amp;utm-term=listing&amp;utm-source=wsa&amp;aff=ebdsshwebmobile" target="_blank" rel="noopener">visit here</a>.</p>
LOCATION:Greensboro Cultural Center\, 200 N. Davie St. Greensboro\, North Carolina 27401
CLASS:PUBLIC
END:VEVENT
END:VCALENDAR
