BEGIN:VCALENDAR
VERSION:2.0
PRODID:Greensboro, NC Calendar Creator
METHOD:PUBLISH
BEGIN:VEVENT
DTSTAMP:20260420T080752
DTSTART:20260503T160000
DTEND:20260503T170000
SUMMARY:Spring Cabaret Performance
DESCRIPTION:Stagelights Spring 2026 Cabaret Performances. For more information and ticket prices, <a href="https://www.stagelightstheater.com/tickets" target="_blank" rel="noopener">visit here</a>.
X-ALT-DESC;FMTTYPE=text/html:Stagelights Spring 2026 Cabaret Performances. For more information and ticket prices, <a href="https://www.stagelightstheater.com/tickets" target="_blank" rel="noopener">visit here</a>.
LOCATION:Greensboro Cultural Center\, 200 N. Davie St. Greensboro\, North Carolina 27401
CLASS:PUBLIC
END:VEVENT
END:VCALENDAR
