BEGIN:VCALENDAR
VERSION:2.0
PRODID:Greensboro, NC Calendar Creator
METHOD:PUBLISH
BEGIN:VEVENT
DTSTAMP:20260417T160813
DTSTART:20260702T130000
DTEND:20260702T160000
SUMMARY:STEM Camp
DESCRIPTION:<p dir="ltr">Join us for exciting STEM technology, in partnership with NC Cooperative Extension, to learn about coding, robotics, drones, and more! Registration is required for this three-day camp. You can register starting June 15. This program is intended for ages 8 to 14.&nbsp;</p><div></div>
X-ALT-DESC;FMTTYPE=text/html:<p dir="ltr">Join us for exciting STEM technology, in partnership with NC Cooperative Extension, to learn about coding, robotics, drones, and more! Registration is required for this three-day camp. You can register starting June 15. This program is intended for ages 8 to 14.&nbsp;</p><div></div>
LOCATION:Kathleen Clay Edwards Family Branch Library\, 1420 Price Park Rd. Greensboro\, North Carolina 27410
CLASS:PUBLIC
END:VEVENT
END:VCALENDAR
