BEGIN:VCALENDAR
VERSION:2.0
PRODID:Greensboro, NC Calendar Creator
METHOD:PUBLISH
BEGIN:VEVENT
DTSTAMP:20260417T155305
DTSTART:20260509T140000
DTEND:20260509T160000
SUMMARY:New Book Lovers at Vance Chavis
DESCRIPTION:Engage with fellow members of the Greensboro community in a spirited discussion of current and meaningful fiction.
X-ALT-DESC;FMTTYPE=text/html:Engage with fellow members of the Greensboro community in a spirited discussion of current and meaningful fiction.
LOCATION:Vance Chavis Branch Library\, 900 S. Benbow Rd. Greensboro\, North Carolina 27406
CLASS:PUBLIC
END:VEVENT
END:VCALENDAR
