BEGIN:VCALENDAR
VERSION:2.0
PRODID:Greensboro, NC Calendar Creator
METHOD:PUBLISH
BEGIN:VEVENT
DTSTAMP:20260417T154554
DTSTART:20260630T100000
DTEND:20260630T104500
SUMMARY:Wild Tails at Vance Chavis Branch
DESCRIPTION:<p>Enjoy a high-energy wildlife presentation with unforgettable animal ambassadors and fascinating facts. This interactive program uncovers how wild creatures, their habitats, and humans are all part of one connected tale. Along the way, you’ll dig into why conservation matters and how everyday choices help protect the natural world.</p>
X-ALT-DESC;FMTTYPE=text/html:<p>Enjoy a high-energy wildlife presentation with unforgettable animal ambassadors and fascinating facts. This interactive program uncovers how wild creatures, their habitats, and humans are all part of one connected tale. Along the way, you’ll dig into why conservation matters and how everyday choices help protect the natural world.</p>
LOCATION:Vance Chavis Branch Library\, 900 S. Benbow Rd. Greensboro\, North Carolina 27406
CLASS:PUBLIC
END:VEVENT
END:VCALENDAR
