BEGIN:VCALENDAR
VERSION:2.0
PRODID:Greensboro, NC Calendar Creator
METHOD:PUBLISH
BEGIN:VEVENT
DTSTAMP:20260417T153220
DTSTART:20260531T150000
DTEND:20260531T170000
SUMMARY:Dog Days at Vance Chavis
DESCRIPTION:Our friends from the SPCA (both human and canine) are dropping by to help us learn about responsible pet ownership and adopting a furry friend in need.  Whether you are actively looking to adopt or would simply like some quality time with a new, four-legged friend, stop by on the last Sunday of each month, or as we call it, SPCA Dog Days.
X-ALT-DESC;FMTTYPE=text/html:Our friends from the SPCA (both human and canine) are dropping by to help us learn about responsible pet ownership and adopting a furry friend in need.  Whether you are actively looking to adopt or would simply like some quality time with a new, four-legged friend, stop by on the last Sunday of each month, or as we call it, SPCA Dog Days.
LOCATION:Vance Chavis Branch Library\, 900 S. Benbow Rd. Greensboro\, North Carolina 27406
CLASS:PUBLIC
END:VEVENT
END:VCALENDAR
