BEGIN:VCALENDAR
VERSION:2.0
PRODID:Greensboro, NC Calendar Creator
METHOD:PUBLISH
BEGIN:VEVENT
DTSTAMP:20260417T145857
DTSTART:20260526T100000
DTEND:20260526T110000
SUMMARY:Family Play Time at Vance Chavis
DESCRIPTION:Time to play! Families are invited to drop by every Tuesday morning for a fun play group that is the perfect excuse to visit the library.
X-ALT-DESC;FMTTYPE=text/html:Time to play! Families are invited to drop by every Tuesday morning for a fun play group that is the perfect excuse to visit the library.
LOCATION:Vance Chavis Branch Library\, 900 S. Benbow Rd. Greensboro\, North Carolina 27406
CLASS:PUBLIC
END:VEVENT
END:VCALENDAR
