BEGIN:VCALENDAR
VERSION:2.0
PRODID:Greensboro, NC Calendar Creator
METHOD:PUBLISH
BEGIN:VEVENT
DTSTAMP:20260416T164310
DTSTART:20260725T103000
DTEND:20260725T111500
SUMMARY:Up, Up and Away with the Music Academy at Benjamin Branch
DESCRIPTION:<p>Enjoy a travel themed children’s program representing music styles, instruments and songs from different countries. A narrator directs the program as families are led through short music selections representing various cultures around the globe. This is a fun and interactive musical program for families and young children.</p><p></p>
X-ALT-DESC;FMTTYPE=text/html:<p>Enjoy a travel themed children’s program representing music styles, instruments and songs from different countries. A narrator directs the program as families are led through short music selections representing various cultures around the globe. This is a fun and interactive musical program for families and young children.</p><p></p>
LOCATION:Benjamin Branch Library\, 1530 Benjamin Parkway Greensboro\, North Carolina 27408
CLASS:PUBLIC
END:VEVENT
END:VCALENDAR
