BEGIN:VCALENDAR
VERSION:2.0
PRODID:Greensboro, NC Calendar Creator
METHOD:PUBLISH
BEGIN:VEVENT
DTSTAMP:20260416T120528
DTSTART:20260429T160000
DTEND:20260429T180000
SUMMARY:Historic Preservation Commission Meeting
DESCRIPTION:<p style="text-align: center;"><strong>Access MMOB via the Greene&nbsp;Street entrance between 3:30 and 5 p.m.</strong></p><p style="text-align: left;">All speakers will be sworn in for the record. No written or emailed comments will be considered by the commission due to the quasi-judicial nature of the commission.</p><em></em><p>The Historic Preservation Commission is a nine-member board appointed by the City Council that reviews applications for Certificates of Appropriateness for exterior work in Greensboro's three local Historic Districts. Members must be qualified based on interest or experience in history, architecture, archaeology, or related fields.&nbsp;</p><p></p><hr><em>Any individual with a disability who needs an interpreter or other auxiliary aids, please contact Olivia Byrd at 336-373-2986. To request services needed, please make the request three to five days prior to the meeting/event. For additional information or assistance, please contact <em>ADA Coordinator&nbsp;</em>Gary Canapinno at 336-373-2723.<hr></em><p>&nbsp;</p><p>&nbsp;</p>
X-ALT-DESC;FMTTYPE=text/html:<p style="text-align: center;"><strong>Access MMOB via the Greene&nbsp;Street entrance between 3:30 and 5 p.m.</strong></p><p style="text-align: left;">All speakers will be sworn in for the record. No written or emailed comments will be considered by the commission due to the quasi-judicial nature of the commission.</p><em></em><p>The Historic Preservation Commission is a nine-member board appointed by the City Council that reviews applications for Certificates of Appropriateness for exterior work in Greensboro's three local Historic Districts. Members must be qualified based on interest or experience in history, architecture, archaeology, or related fields.&nbsp;</p><p></p><hr><em>Any individual with a disability who needs an interpreter or other auxiliary aids, please contact Olivia Byrd at 336-373-2986. To request services needed, please make the request three to five days prior to the meeting/event. For additional information or assistance, please contact <em>ADA Coordinator&nbsp;</em>Gary Canapinno at 336-373-2723.<hr></em><p>&nbsp;</p><p>&nbsp;</p>
LOCATION:Plaza Level Conference Room\, Melvin Municipal Office Building\, 300 W. Washington St. Greensboro\, North Carolina 27402
CLASS:PUBLIC
END:VEVENT
END:VCALENDAR
