BEGIN:VCALENDAR
VERSION:2.0
PRODID:Greensboro, NC Calendar Creator
METHOD:PUBLISH
BEGIN:VEVENT
DTSTAMP:20260415T080434
DTSTART:20260515T063000
DTEND:20260515T235900
SUMMARY:Bike to Work Day
DESCRIPTION:Celebrate Bike to Work Day with the City's Department of Transportation. Stop by our morning booth at 720 W. Market St. for free coffee, water, and breakfast snacks while connecting with fellow riders and learning about upcoming bike month events. Whether you’re commuting or just passing by, everyone is welcome to swing through and grab some goodies! For more information,  email  <a href="mailto:&#77;&#97;&#114;&#121;&#46;&#72;&#97;&#114;&#119;&#97;&#114;&#100;&#64;&#103;&#114;&#101;&#101;&#110;&#115;&#98;&#111;&#114;&#111;&#45;&#110;&#99;&#46;&#103;&#111;&#118;">Bike to Work Day</a>.
X-ALT-DESC;FMTTYPE=text/html:Celebrate Bike to Work Day with the City's Department of Transportation. Stop by our morning booth at 720 W. Market St. for free coffee, water, and breakfast snacks while connecting with fellow riders and learning about upcoming bike month events. Whether you’re commuting or just passing by, everyone is welcome to swing through and grab some goodies! For more information,  email  <a href="mailto:&#77;&#97;&#114;&#121;&#46;&#72;&#97;&#114;&#119;&#97;&#114;&#100;&#64;&#103;&#114;&#101;&#101;&#110;&#115;&#98;&#111;&#114;&#111;&#45;&#110;&#99;&#46;&#103;&#111;&#118;">Bike to Work Day</a>.
LOCATION:
CLASS:PUBLIC
END:VEVENT
END:VCALENDAR
