BEGIN:VCALENDAR
VERSION:2.0
PRODID:Greensboro, NC Calendar Creator
METHOD:PUBLISH
BEGIN:VEVENT
DTSTAMP:20260413T080556
DTSTART:20260415T180000
DTEND:20260415T210000
SUMMARY:Poetry in the Boro
DESCRIPTION:<div x14z9mp="" xat24cr="" x1lziwak="" x1vvkbs"="">Creative Greensboro is celebrating National Poetry Month with an interactive, family friendly event at the Greensboro Cultural Center in partnership with Greensboro’s newly appointed Poet Laureate, James Daniels!</div><div x14z9mp="" xat24cr="" x1lziwak="" x1vvkbs"="">&nbsp;</div><div x14z9mp="" xat24cr="" x1lziwak="" x1vvkbs"="">The evening will include a poetry Open Mic hosted by Nyabi the Great, music curated by DJ SOS, a literary vendor fair featuring local authors and booksellers along with representatives from UNCG and A&amp;T’s creative writing departments, a hip hop cypher, and family friendly poetry-themed activities.</div>
X-ALT-DESC;FMTTYPE=text/html:<div x14z9mp="" xat24cr="" x1lziwak="" x1vvkbs"="">Creative Greensboro is celebrating National Poetry Month with an interactive, family friendly event at the Greensboro Cultural Center in partnership with Greensboro’s newly appointed Poet Laureate, James Daniels!</div><div x14z9mp="" xat24cr="" x1lziwak="" x1vvkbs"="">&nbsp;</div><div x14z9mp="" xat24cr="" x1lziwak="" x1vvkbs"="">The evening will include a poetry Open Mic hosted by Nyabi the Great, music curated by DJ SOS, a literary vendor fair featuring local authors and booksellers along with representatives from UNCG and A&amp;T’s creative writing departments, a hip hop cypher, and family friendly poetry-themed activities.</div>
LOCATION:Greensboro Cultural Center\, 200 N. Davie St. Greensboro\, North Carolina 27401
CLASS:PUBLIC
END:VEVENT
END:VCALENDAR
