BEGIN:VCALENDAR
VERSION:2.0
PRODID:Greensboro, NC Calendar Creator
METHOD:PUBLISH
BEGIN:VEVENT
DTSTAMP:20260409T152253
DTSTART:20260423T190000
DTEND:20260423T210000
SUMMARY:Greensboro Big Band Concert
DESCRIPTION:Join us for an evening of dancing (or just listening!) as the Big Band presents its final spring concert.&nbsp; Admission is free but donations to support the Big Band are appreciated!
X-ALT-DESC;FMTTYPE=text/html:Join us for an evening of dancing (or just listening!) as the Big Band presents its final spring concert.&nbsp; Admission is free but donations to support the Big Band are appreciated!
LOCATION:Van Dyke Performance Space\, 200 N. Davie St. Greensboro\, North Carolina 27401
CLASS:PUBLIC
END:VEVENT
END:VCALENDAR
