BEGIN:VCALENDAR
VERSION:2.0
PRODID:Greensboro, NC Calendar Creator
METHOD:PUBLISH
BEGIN:VEVENT
DTSTAMP:20260406T081006
DTSTART:20260423T133000
DTEND:20260423T150000
SUMMARY:Mother's Day Flowers Workshop
DESCRIPTION:<p>Little artists will handcraft a beautiful polymer clay rose gift for Mother’s Day. Guided step-by-step, kids will learn basic clay conditioning, shaping petals, assembling a rose, adding leaves/details, and finishing techniques. Finished pieces will be cured and wrapped for a special presentation. Please note: Oven finished pieces will need to be picked up one week later. If you prefer to take your rose home to bake, instructions will be provided for you to do so.&nbsp;</p><p>Recommended ages 7+, younger children will need adult assistance/supervision.</p><p><a href="https://www.beccadudleyart.com/store/p/polymer-clay-roses" target="_blank" rel="noopener">Register here</a>.</p>
X-ALT-DESC;FMTTYPE=text/html:<p>Little artists will handcraft a beautiful polymer clay rose gift for Mother’s Day. Guided step-by-step, kids will learn basic clay conditioning, shaping petals, assembling a rose, adding leaves/details, and finishing techniques. Finished pieces will be cured and wrapped for a special presentation. Please note: Oven finished pieces will need to be picked up one week later. If you prefer to take your rose home to bake, instructions will be provided for you to do so.&nbsp;</p><p>Recommended ages 7+, younger children will need adult assistance/supervision.</p><p><a href="https://www.beccadudleyart.com/store/p/polymer-clay-roses" target="_blank" rel="noopener">Register here</a>.</p>
LOCATION:
CLASS:PUBLIC
END:VEVENT
END:VCALENDAR
