BEGIN:VCALENDAR
VERSION:2.0
PRODID:Greensboro, NC Calendar Creator
METHOD:PUBLISH
BEGIN:VEVENT
DTSTAMP:20260408T111141
DTSTART:20260528T100000
DTEND:20260528T110000
SUMMARY:Food Waste Series
DESCRIPTION:<p>Did&nbsp;you know that reducing your food waste can save you money, time, and the planet? Join us for an engaging series that explores why it happens, how it&nbsp;impacts&nbsp;our communities, and simple steps you can take to make a difference at home.</p><p> Session 1&nbsp;– May 14: Basics of Food Waste, will be held at the Kathleen Clay Edwards Family Branch, 1420 Price Park Dr.</p><p>Session 2&nbsp;– May 21: Buying in Bulk, will be held at Deep Roots Market, 600 N. Eugene St.</p><p>Session 3&nbsp;– May 28: Composting Your Food Waste, will be held at the Compost Demonstration site at Keeley Park, 4110 Keeley Rd.</p><p>The&nbsp;first 20 participants who register and attend all sessions, receive a copy of the book, <em>Perfectly Good Food</em>. To register, e-mail&nbsp;<a href="mailto:melanie.buckingham@greensboro-nc.gov" data-linkindex="3" title="mailto:&#109;&#101;&#108;&#97;&#110;&#105;&#101;&#46;&#98;&#117;&#99;&#107;&#105;&#110;&#103;&#104;&#97;&#109;&#64;&#103;&#114;&#101;&#101;&#110;&#115;&#98;&#111;&#114;&#111;&#45;&#110;&#99;&#46;&#103;&#111;&#118;">melanie.buckingham@greensboro-nc.gov</a></p><p>&nbsp;</p>
X-ALT-DESC;FMTTYPE=text/html:<p>Did&nbsp;you know that reducing your food waste can save you money, time, and the planet? Join us for an engaging series that explores why it happens, how it&nbsp;impacts&nbsp;our communities, and simple steps you can take to make a difference at home.</p><p> Session 1&nbsp;– May 14: Basics of Food Waste, will be held at the Kathleen Clay Edwards Family Branch, 1420 Price Park Dr.</p><p>Session 2&nbsp;– May 21: Buying in Bulk, will be held at Deep Roots Market, 600 N. Eugene St.</p><p>Session 3&nbsp;– May 28: Composting Your Food Waste, will be held at the Compost Demonstration site at Keeley Park, 4110 Keeley Rd.</p><p>The&nbsp;first 20 participants who register and attend all sessions, receive a copy of the book, <em>Perfectly Good Food</em>. To register, e-mail&nbsp;<a href="mailto:melanie.buckingham@greensboro-nc.gov" data-linkindex="3" title="mailto:&#109;&#101;&#108;&#97;&#110;&#105;&#101;&#46;&#98;&#117;&#99;&#107;&#105;&#110;&#103;&#104;&#97;&#109;&#64;&#103;&#114;&#101;&#101;&#110;&#115;&#98;&#111;&#114;&#111;&#45;&#110;&#99;&#46;&#103;&#111;&#118;">melanie.buckingham@greensboro-nc.gov</a></p><p>&nbsp;</p>
LOCATION:Keeley Park\, 4110 Keeley Rd. McLeansville\, North Carolina 27301
CLASS:PUBLIC
END:VEVENT
END:VCALENDAR
