BEGIN:VCALENDAR
VERSION:2.0
PRODID:Greensboro, NC Calendar Creator
METHOD:PUBLISH
BEGIN:VEVENT
DTSTAMP:20260324T113204
DTSTART:20260730T180000
DTEND:20260730T193000
SUMMARY:Self-Defense for Adults
DESCRIPTION:<p>Join us for a hands-on self-defense workshop for adults focused on situational awareness and practical safety skills. Participants will practice confidence-building techniques and learn strategies for real-world application. </p><p>Registration is required and interested participants should <a href="mailto:&#66;&#114;&#105;&#100;&#103;&#101;&#116;&#46;&#84;&#104;&#114;&#111;&#119;&#101;&#114;&#64;&#103;&#114;&#101;&#101;&#110;&#115;&#98;&#111;&#114;&#111;&#45;&#110;&#99;&#46;&#103;&#111;&#118;">email</a>&nbsp;to reserve a spot. </p><p><p style="text-align: center;">&nbsp;</p></p>
X-ALT-DESC;FMTTYPE=text/html:<p>Join us for a hands-on self-defense workshop for adults focused on situational awareness and practical safety skills. Participants will practice confidence-building techniques and learn strategies for real-world application. </p><p>Registration is required and interested participants should <a href="mailto:&#66;&#114;&#105;&#100;&#103;&#101;&#116;&#46;&#84;&#104;&#114;&#111;&#119;&#101;&#114;&#64;&#103;&#114;&#101;&#101;&#110;&#115;&#98;&#111;&#114;&#111;&#45;&#110;&#99;&#46;&#103;&#111;&#118;">email</a>&nbsp;to reserve a spot. </p><p><p style="text-align: center;">&nbsp;</p></p>
LOCATION:Benjamin Branch Library\, 1530 Benjamin Parkway Greensboro\, North Carolina 27408
CLASS:PUBLIC
END:VEVENT
END:VCALENDAR
