BEGIN:VCALENDAR
VERSION:2.0
PRODID:Greensboro, NC Calendar Creator
METHOD:PUBLISH
BEGIN:VEVENT
DTSTAMP:20260324T112606
DTSTART:20260618T183000
DTEND:20260618T193000
SUMMARY:Sparkle and Shine
DESCRIPTION:<p>Give your favorite paperback a dazzling makeover. In this hands-on workshop, adult participants will transform their book covers using rhinestones to create a unique personalized design. All embellishing supplies will be provided.</p><p>Participants must bring a paperback book to decorate and registration is required. Please&nbsp;<a href="mailto:&#66;&#114;&#105;&#100;&#103;&#101;&#116;&#46;&#84;&#104;&#114;&#111;&#119;&#101;&#114;&#64;&#103;&#114;&#101;&#101;&#110;&#115;&#98;&#111;&#114;&#111;&#45;&#110;&#99;&#46;&#103;&#111;&#118;">email</a>&nbsp;or call 336-373-7540 to reserve a spot.</p><p><p style="text-align: center;">&nbsp;</p></p>
X-ALT-DESC;FMTTYPE=text/html:<p>Give your favorite paperback a dazzling makeover. In this hands-on workshop, adult participants will transform their book covers using rhinestones to create a unique personalized design. All embellishing supplies will be provided.</p><p>Participants must bring a paperback book to decorate and registration is required. Please&nbsp;<a href="mailto:&#66;&#114;&#105;&#100;&#103;&#101;&#116;&#46;&#84;&#104;&#114;&#111;&#119;&#101;&#114;&#64;&#103;&#114;&#101;&#101;&#110;&#115;&#98;&#111;&#114;&#111;&#45;&#110;&#99;&#46;&#103;&#111;&#118;">email</a>&nbsp;or call 336-373-7540 to reserve a spot.</p><p><p style="text-align: center;">&nbsp;</p></p>
LOCATION:Benjamin Branch Library\, 1530 Benjamin Parkway Greensboro\, North Carolina 27408
CLASS:PUBLIC
END:VEVENT
END:VCALENDAR
