BEGIN:VCALENDAR
VERSION:2.0
PRODID:Greensboro, NC Calendar Creator
METHOD:PUBLISH
BEGIN:VEVENT
DTSTAMP:20260323T163531
DTSTART:20260521T183000
DTEND:20260521T203000
SUMMARY:AAPI Heritage Month Cinema Series: "Oldboy"
DESCRIPTION:<p></p><p style="text-align: left;"><span style="text-align: left;"></span><span style="text-align: left;">Join us for the Hemphill Branch's AAPI Heritage Month Cinema Series, a month long showcase of classic and contemporary films created by Asian, Asian American, and Pacific Islander actors, writers, directors, and filmmakers. From the hard-hitting social commentary of <em>Parasite </em>to the magical musical adventure of <em>Moana</em>, each film explores a different aspect of the Asian/AAPI story across theme and genre.</span></p><p>On Thursday, May 21 at 6:30 pm, we are screening <em>Oldboy</em>, the action thriller from acclaimed director Park Chan-wook based on the manga by Garon Tsuchiya and Nobuaki Minegishi.</p><p>Here is a description of the film: "After being kidnapped and imprisoned for fifteen years, Oh Dae-Su is released, only to find that he must track down his captor in five days."</p><div><p>The film is rated R. This program is for adults.</p><p>Learn more about the film <a href="https://en.wikipedia.org/wiki/Oldboy_(2003_film)" target="_blank" rel="noopener">here</a>.</p><p>For more information, please contact <a href="mailto:&#114;&#111;&#110;&#97;&#108;&#100;&#46;&#104;&#101;&#97;&#100;&#101;&#110;&#64;&#103;&#114;&#101;&#101;&#110;&#115;&#98;&#111;&#114;&#111;&#45;&#110;&#99;&#46;&#103;&#111;&#118;">Ron</a>.</p><p><p style="text-align: center;"></p></p></div><div></div>
X-ALT-DESC;FMTTYPE=text/html:<p></p><p style="text-align: left;"><span style="text-align: left;"></span><span style="text-align: left;">Join us for the Hemphill Branch's AAPI Heritage Month Cinema Series, a month long showcase of classic and contemporary films created by Asian, Asian American, and Pacific Islander actors, writers, directors, and filmmakers. From the hard-hitting social commentary of <em>Parasite </em>to the magical musical adventure of <em>Moana</em>, each film explores a different aspect of the Asian/AAPI story across theme and genre.</span></p><p>On Thursday, May 21 at 6:30 pm, we are screening <em>Oldboy</em>, the action thriller from acclaimed director Park Chan-wook based on the manga by Garon Tsuchiya and Nobuaki Minegishi.</p><p>Here is a description of the film: "After being kidnapped and imprisoned for fifteen years, Oh Dae-Su is released, only to find that he must track down his captor in five days."</p><div><p>The film is rated R. This program is for adults.</p><p>Learn more about the film <a href="https://en.wikipedia.org/wiki/Oldboy_(2003_film)" target="_blank" rel="noopener">here</a>.</p><p>For more information, please contact <a href="mailto:&#114;&#111;&#110;&#97;&#108;&#100;&#46;&#104;&#101;&#97;&#100;&#101;&#110;&#64;&#103;&#114;&#101;&#101;&#110;&#115;&#98;&#111;&#114;&#111;&#45;&#110;&#99;&#46;&#103;&#111;&#118;">Ron</a>.</p><p><p style="text-align: center;"></p></p></div><div></div>
LOCATION:Hemphill Branch Library\, 2301 W. Vandalia Rd. Greensboro\, North Carolina 27407
CLASS:PUBLIC
END:VEVENT
END:VCALENDAR
