BEGIN:VCALENDAR
VERSION:2.0
PRODID:Greensboro, NC Calendar Creator
METHOD:PUBLISH
BEGIN:VEVENT
DTSTAMP:20260323T095950
DTSTART:20260602T180000
DTEND:20260602T190000
SUMMARY:Learn to Stitch
DESCRIPTION:Learn the basics of hand mending in this relaxed, beginner-friendly workshop. We'll create a hand-stitched handkerchief sampler while practicing simple, practical stitches you can use to repair clothing and textiles at home. No prior experience is needed and all supplies will be provided. Come mend, make, and leave with skills that last.
X-ALT-DESC;FMTTYPE=text/html:Learn the basics of hand mending in this relaxed, beginner-friendly workshop. We'll create a hand-stitched handkerchief sampler while practicing simple, practical stitches you can use to repair clothing and textiles at home. No prior experience is needed and all supplies will be provided. Come mend, make, and leave with skills that last.
LOCATION:Benjamin Branch Library\, 1530 Benjamin Parkway Greensboro\, North Carolina 27408
CLASS:PUBLIC
END:VEVENT
END:VCALENDAR
