BEGIN:VCALENDAR
VERSION:2.0
PRODID:Greensboro, NC Calendar Creator
METHOD:PUBLISH
BEGIN:VEVENT
DTSTAMP:20260323T095503
DTSTART:20260427T120000
DTEND:20260427T130000
SUMMARY:Benjamin Readers Book Club
DESCRIPTION:Join us as we discuss<em>&nbsp;Table for Two&nbsp;</em>by Amor Towles.&nbsp;
X-ALT-DESC;FMTTYPE=text/html:Join us as we discuss<em>&nbsp;Table for Two&nbsp;</em>by Amor Towles.&nbsp;
LOCATION:Benjamin Branch Library\, 1530 Benjamin Parkway Greensboro\, North Carolina 27408
CLASS:PUBLIC
END:VEVENT
END:VCALENDAR
