BEGIN:VCALENDAR
VERSION:2.0
PRODID:Greensboro, NC Calendar Creator
METHOD:PUBLISH
BEGIN:VEVENT
DTSTAMP:20260323T095058
DTSTART:20260824T120000
DTEND:20260824T130000
SUMMARY:Benjamin Readers Book Club
DESCRIPTION:Join us as we discuss<em>&nbsp;The Sea of Tranquility&nbsp;</em>by Emily St. John Mandel.&nbsp;
X-ALT-DESC;FMTTYPE=text/html:Join us as we discuss<em>&nbsp;The Sea of Tranquility&nbsp;</em>by Emily St. John Mandel.&nbsp;
LOCATION:Benjamin Branch Library\, 1530 Benjamin Parkway Greensboro\, North Carolina 27408
CLASS:PUBLIC
END:VEVENT
END:VCALENDAR
