BEGIN:VCALENDAR
VERSION:2.0
PRODID:Greensboro, NC Calendar Creator
METHOD:PUBLISH
BEGIN:VEVENT
DTSTAMP:20260318T162321
DTSTART:20260614T150000
DTEND:20260614T160000
SUMMARY:Cool Savings: Cut Your Summer Energy Bills
DESCRIPTION:Electrify&nbsp;the Triad and&nbsp;Self-Help&nbsp;Credit Union will share ways to cut your costs through home energy efficiency upgrades and rebates through state programs and Duke Energy. Learn how to&nbsp;utilize&nbsp;Home Energy Navigators to guide homeowners through the complexities of the various technologies, services, incentives, and financing options available. Also, hear firsthand experiences from Susan Lindsey, who lives in a solar home. To register, email <a href="mailto:melanie.buckingham@greensboro-nc.gov?subject=Register for Cool Savings Energy" id="melanie.buckingham@greensboro-nc.gov" title="Register for Cool Savings Energy">Melanie Buckingham</a>.
X-ALT-DESC;FMTTYPE=text/html:Electrify&nbsp;the Triad and&nbsp;Self-Help&nbsp;Credit Union will share ways to cut your costs through home energy efficiency upgrades and rebates through state programs and Duke Energy. Learn how to&nbsp;utilize&nbsp;Home Energy Navigators to guide homeowners through the complexities of the various technologies, services, incentives, and financing options available. Also, hear firsthand experiences from Susan Lindsey, who lives in a solar home. To register, email <a href="mailto:melanie.buckingham@greensboro-nc.gov?subject=Register for Cool Savings Energy" id="melanie.buckingham@greensboro-nc.gov" title="Register for Cool Savings Energy">Melanie Buckingham</a>.
LOCATION:Kathleen Clay Edwards Family Branch Library\, 1420 Price Park Rd. Greensboro\, North Carolina 27410
CLASS:PUBLIC
END:VEVENT
END:VCALENDAR
