BEGIN:VCALENDAR
VERSION:2.0
PRODID:Greensboro, NC Calendar Creator
METHOD:PUBLISH
BEGIN:VEVENT
DTSTAMP:20260318T162234
DTSTART:20260605T100000
DTEND:20260605T163000
SUMMARY:Project WET Workshop
DESCRIPTION:Educators can celebrate Creek Week and join us for a hands-on workshop using activities from the new curriculum, <em>Foundations in Water Literacy</em>. Learn about watershed dynamics, your water footprint, water management, pollution, conservation and more. Participants will earn credit towards the NC Environmental Education Certification and CEUs. To register, e-mail <a href="mailto:melanie.buckingham@greensboro-nc.gov?subject=Register for Project WET " id="melanie.buckingham@greensboro-nc.gov" title="Register for Project WET">Melanie Buckingham</a>.<br bcx0"="">
X-ALT-DESC;FMTTYPE=text/html:Educators can celebrate Creek Week and join us for a hands-on workshop using activities from the new curriculum, <em>Foundations in Water Literacy</em>. Learn about watershed dynamics, your water footprint, water management, pollution, conservation and more. Participants will earn credit towards the NC Environmental Education Certification and CEUs. To register, e-mail <a href="mailto:melanie.buckingham@greensboro-nc.gov?subject=Register for Project WET " id="melanie.buckingham@greensboro-nc.gov" title="Register for Project WET">Melanie Buckingham</a>.<br bcx0"="">
LOCATION:Kathleen Clay Edwards Family Branch Library\, 1420 Price Park Rd. Greensboro\, North Carolina 27410
CLASS:PUBLIC
END:VEVENT
END:VCALENDAR
