BEGIN:VCALENDAR
VERSION:2.0
PRODID:Greensboro, NC Calendar Creator
METHOD:PUBLISH
BEGIN:VEVENT
DTSTAMP:20260318T162145
DTSTART:20260612T120000
DTEND:20260612T130000
SUMMARY:Green Reads
DESCRIPTION:Join us for a book discussion of <em>Island of Sea Women</em> by Lisa See.&nbsp;Pick up a copy of the title at the branch prior to the discussion. To register, e-mail <a href="mailto:melanie.buckingham@greensboro-nc.gov?subject=Register for Green Reads Island of Sea Women" id="melanie.buckingham@greensboro-nc.gov" title="Register for Green Reads Island of Sea Women">Melanie Buckingham</a>.
X-ALT-DESC;FMTTYPE=text/html:Join us for a book discussion of <em>Island of Sea Women</em> by Lisa See.&nbsp;Pick up a copy of the title at the branch prior to the discussion. To register, e-mail <a href="mailto:melanie.buckingham@greensboro-nc.gov?subject=Register for Green Reads Island of Sea Women" id="melanie.buckingham@greensboro-nc.gov" title="Register for Green Reads Island of Sea Women">Melanie Buckingham</a>.
LOCATION:Kathleen Clay Edwards Family Branch Library\, 1420 Price Park Rd. Greensboro\, North Carolina 27410
CLASS:PUBLIC
END:VEVENT
END:VCALENDAR
