BEGIN:VCALENDAR
VERSION:2.0
PRODID:Greensboro, NC Calendar Creator
METHOD:PUBLISH
BEGIN:VEVENT
DTSTAMP:20260318T162120
DTSTART:20260615T183000
DTEND:20260615T203000
SUMMARY:Digital Nature Journaling for Adults
DESCRIPTION:Jeff Cates, Digital Skills Extension Agent with Guilford County Cooperative Extension, will engage you with simple digital tools to deepen your connection to nature. Explore how to capture soundscapes, wildlife photos, and observations then head indoors to create a personal digital nature journal and learn&nbsp;easy ways&nbsp;to share discoveries. Registration is required; e-mail <a href="mailto:melanie.buckingham@greensboro-nc.gov?subject=Register for Digital Nature Journaling" id="melanie.buckingham@greensboro-nc.gov" title="Register for Digital Nature Journaling">Melanie Buckingham</a>.
X-ALT-DESC;FMTTYPE=text/html:Jeff Cates, Digital Skills Extension Agent with Guilford County Cooperative Extension, will engage you with simple digital tools to deepen your connection to nature. Explore how to capture soundscapes, wildlife photos, and observations then head indoors to create a personal digital nature journal and learn&nbsp;easy ways&nbsp;to share discoveries. Registration is required; e-mail <a href="mailto:melanie.buckingham@greensboro-nc.gov?subject=Register for Digital Nature Journaling" id="melanie.buckingham@greensboro-nc.gov" title="Register for Digital Nature Journaling">Melanie Buckingham</a>.
LOCATION:Kathleen Clay Edwards Family Branch Library\, 1420 Price Park Rd. Greensboro\, North Carolina 27410
CLASS:PUBLIC
END:VEVENT
END:VCALENDAR
