BEGIN:VCALENDAR
VERSION:2.0
PRODID:Greensboro, NC Calendar Creator
METHOD:PUBLISH
BEGIN:VEVENT
DTSTAMP:20260318T161811
DTSTART:20260723T203000
DTEND:20260723T210000
SUMMARY:Moth Night
DESCRIPTION:Help us celebrate National Moth Week by discovering varieties of moths and their connection to the environment. Join us indoors for hands-on moth fun and then venture outdoors to&nbsp;participate&nbsp;in citizen science. Bring your camera or smart phone and a flashlight and dress for the weather. To register, e-mail <a href="mailto:melanie.buckingham@greensboro-nc.gov?subject=Register for Moth Night" id="melanie.buckingham@greensboro-nc.gov" title="Register for Moth Night">Melanie Buckingham</a>.<br bcx0"="">
X-ALT-DESC;FMTTYPE=text/html:Help us celebrate National Moth Week by discovering varieties of moths and their connection to the environment. Join us indoors for hands-on moth fun and then venture outdoors to&nbsp;participate&nbsp;in citizen science. Bring your camera or smart phone and a flashlight and dress for the weather. To register, e-mail <a href="mailto:melanie.buckingham@greensboro-nc.gov?subject=Register for Moth Night" id="melanie.buckingham@greensboro-nc.gov" title="Register for Moth Night">Melanie Buckingham</a>.<br bcx0"="">
LOCATION:Kathleen Clay Edwards Family Branch Library\, 1420 Price Park Rd. Greensboro\, North Carolina 27410
CLASS:PUBLIC
END:VEVENT
END:VCALENDAR
