BEGIN:VCALENDAR
VERSION:2.0
PRODID:Greensboro, NC Calendar Creator
METHOD:PUBLISH
BEGIN:VEVENT
DTSTAMP:20260318T161556
DTSTART:20260812T190000
DTEND:20260812T200000
SUMMARY:Project Turtles
DESCRIPTION:Ann Berry Somers, Senior Lecturer Emerita at UNCG, will share information about the Box Turtle Connection. This project is a long-term study of box turtles in North Carolina to learn about&nbsp;trends in population,&nbsp;identify&nbsp;threats, and develop strategies for long term conservation of the species.&nbsp;Also, educators from Greensboro Parks and Recreation will show a variety of turtles to learn their differences. To register, e-mail&nbsp;<a href="mailto:melanie.buckingham@greensboro-nc.gov?subject=Register for  Turtles" id="melanie.buckingham@greensboro-nc.gov" title="Register for  Turtles">Melanie Buckingham</a>.
X-ALT-DESC;FMTTYPE=text/html:Ann Berry Somers, Senior Lecturer Emerita at UNCG, will share information about the Box Turtle Connection. This project is a long-term study of box turtles in North Carolina to learn about&nbsp;trends in population,&nbsp;identify&nbsp;threats, and develop strategies for long term conservation of the species.&nbsp;Also, educators from Greensboro Parks and Recreation will show a variety of turtles to learn their differences. To register, e-mail&nbsp;<a href="mailto:melanie.buckingham@greensboro-nc.gov?subject=Register for  Turtles" id="melanie.buckingham@greensboro-nc.gov" title="Register for  Turtles">Melanie Buckingham</a>.
LOCATION:Kathleen Clay Edwards Family Branch Library\, 1420 Price Park Rd. Greensboro\, North Carolina 27410
CLASS:PUBLIC
END:VEVENT
END:VCALENDAR
