BEGIN:VCALENDAR
VERSION:2.0
PRODID:Greensboro, NC Calendar Creator
METHOD:PUBLISH
BEGIN:VEVENT
DTSTAMP:20260318T161025
DTSTART:20260908T120000
DTEND:20260908T130000
SUMMARY:Northeast Book Club
DESCRIPTION:Please join us as we discuss <i>Creatures of Habit&nbsp;</i>by Jill McCorkle.
X-ALT-DESC;FMTTYPE=text/html:Please join us as we discuss <i>Creatures of Habit&nbsp;</i>by Jill McCorkle.
LOCATION:Benjamin Branch Library\, 1530 Benjamin Parkway Greensboro\, North Carolina 27408
CLASS:PUBLIC
END:VEVENT
END:VCALENDAR
