BEGIN:VCALENDAR
VERSION:2.0
PRODID:Greensboro, NC Calendar Creator
METHOD:PUBLISH
BEGIN:VEVENT
DTSTAMP:20260318T155352
DTSTART:20260503T160000
DTEND:20260503T170000
SUMMARY:Bushcraft Outdoor Knot Skills
DESCRIPTION:Learn&nbsp;hands-on knot tying— perfect for securing gear, hanging bear bags, and more. This event is ideal for hikers, campers, survival enthusiasts, and anyone curious. To register, e-mail <a href="mailto:melanie.buckingham@greensboro-nc.gov?subject=Register for Bushcraft Knot Tying" id="melanie.buckingham@greensboro-nc.gov" title="Register for Bushcraft Knot Tying">Melanie Buckingham</a>.
X-ALT-DESC;FMTTYPE=text/html:Learn&nbsp;hands-on knot tying— perfect for securing gear, hanging bear bags, and more. This event is ideal for hikers, campers, survival enthusiasts, and anyone curious. To register, e-mail <a href="mailto:melanie.buckingham@greensboro-nc.gov?subject=Register for Bushcraft Knot Tying" id="melanie.buckingham@greensboro-nc.gov" title="Register for Bushcraft Knot Tying">Melanie Buckingham</a>.
LOCATION:Kathleen Clay Edwards Family Branch Library\, 1420 Price Park Rd. Greensboro\, North Carolina 27410
CLASS:PUBLIC
END:VEVENT
END:VCALENDAR
