BEGIN:VCALENDAR
VERSION:2.0
PRODID:Greensboro, NC Calendar Creator
METHOD:PUBLISH
BEGIN:VEVENT
DTSTAMP:20260318T154141
DTSTART:20260718T150000
DTEND:20260718T160000
SUMMARY:Studio Saturday: Dinosaur Crafts
DESCRIPTION:<p>Everyone loves dinosaurs! Join us to make a frame-worthy dinosaur shadow artwork and create your own fossil. This event is for families.&nbsp;&nbsp;</p><p>&nbsp;</p><p>&nbsp;</p><p>&nbsp;</p><p>&nbsp;</p><p>&nbsp;</p>
X-ALT-DESC;FMTTYPE=text/html:<p>Everyone loves dinosaurs! Join us to make a frame-worthy dinosaur shadow artwork and create your own fossil. This event is for families.&nbsp;&nbsp;</p><p>&nbsp;</p><p>&nbsp;</p><p>&nbsp;</p><p>&nbsp;</p><p>&nbsp;</p>
LOCATION:Hemphill Branch Library\, 2301 W. Vandalia Rd. Greensboro\, North Carolina 27407
CLASS:PUBLIC
END:VEVENT
END:VCALENDAR
