BEGIN:VCALENDAR
VERSION:2.0
PRODID:Greensboro, NC Calendar Creator
METHOD:PUBLISH
BEGIN:VEVENT
DTSTAMP:20260402T111829
DTSTART:20260808T150000
DTEND:20260808T160000
SUMMARY:Studio Saturday: Coral Reef Collage
DESCRIPTION:<p>Let's dive under the sea with this mixed media project. Add fish, seaweed, and more. This activity is great for families.</p><p></p><p>&nbsp;</p><p>&nbsp;</p><p>&nbsp;</p>
X-ALT-DESC;FMTTYPE=text/html:<p>Let's dive under the sea with this mixed media project. Add fish, seaweed, and more. This activity is great for families.</p><p></p><p>&nbsp;</p><p>&nbsp;</p><p>&nbsp;</p>
LOCATION:Hemphill Branch Library\, 2301 W. Vandalia Rd. Greensboro\, North Carolina 27407
CLASS:PUBLIC
END:VEVENT
END:VCALENDAR
