BEGIN:VCALENDAR
VERSION:2.0
PRODID:Greensboro, NC Calendar Creator
METHOD:PUBLISH
BEGIN:VEVENT
DTSTAMP:20260318T151201
DTSTART:20260804T143000
DTEND:20260804T153000
SUMMARY:Geodes, Gemstones, and Geology at Hemphill Branch
DESCRIPTION:<p>Where do rocks come from? Join us to explore a variety of rocks and minerals. We'll learn about the science and beauty of rocks. Create some geode art and take home a gemstone of your own. This program is for children and families.</p><p></p>
X-ALT-DESC;FMTTYPE=text/html:<p>Where do rocks come from? Join us to explore a variety of rocks and minerals. We'll learn about the science and beauty of rocks. Create some geode art and take home a gemstone of your own. This program is for children and families.</p><p></p>
LOCATION:Hemphill Branch Library\, 2301 W. Vandalia Rd. Greensboro\, North Carolina 27407
CLASS:PUBLIC
END:VEVENT
END:VCALENDAR
