BEGIN:VCALENDAR
VERSION:2.0
PRODID:Greensboro, NC Calendar Creator
METHOD:PUBLISH
BEGIN:VEVENT
DTSTAMP:20260318T151018
DTSTART:20260730T103000
DTEND:20260730T111500
SUMMARY:Preschool Splash Day at Hemphill Branch
DESCRIPTION:<p>We're taking the fun outside for water play in the garden, weather permitting. We'll have water balloons, sprinklers, and popsicles. Be sure to wear clothes that can get wet, including flip-flops or water shoes for safety. Bring a towel and get ready for a splashing good time.&nbsp;</p><p></p><p>&nbsp;</p><p>&nbsp;</p><p>&nbsp;</p><p>&nbsp;</p>
X-ALT-DESC;FMTTYPE=text/html:<p>We're taking the fun outside for water play in the garden, weather permitting. We'll have water balloons, sprinklers, and popsicles. Be sure to wear clothes that can get wet, including flip-flops or water shoes for safety. Bring a towel and get ready for a splashing good time.&nbsp;</p><p></p><p>&nbsp;</p><p>&nbsp;</p><p>&nbsp;</p><p>&nbsp;</p>
LOCATION:Hemphill Branch Library\, 2301 W. Vandalia Rd. Greensboro\, North Carolina 27407
CLASS:PUBLIC
END:VEVENT
END:VCALENDAR
