BEGIN:VCALENDAR
VERSION:2.0
PRODID:Greensboro, NC Calendar Creator
METHOD:PUBLISH
BEGIN:VEVENT
DTSTAMP:20260318T150825
DTSTART:20260806T103000
DTEND:20260806T113000
SUMMARY:Preschool Storytime at Hemphill Branch
DESCRIPTION:<p>Buzz, buzz! Ms. Marya will share books about bees, butterflies, and other flying friends.&nbsp;Preschoolers and toddlers, along with parents and caregivers, are invited to enjoy stories, songs, and movement activities.&nbsp;</p><p>After storytime, we'll craft a bee that flies from one flower to another.</p><p>&nbsp;</p><p>&nbsp;</p><p>&nbsp;</p><p>&nbsp;</p><p>&nbsp;</p>
X-ALT-DESC;FMTTYPE=text/html:<p>Buzz, buzz! Ms. Marya will share books about bees, butterflies, and other flying friends.&nbsp;Preschoolers and toddlers, along with parents and caregivers, are invited to enjoy stories, songs, and movement activities.&nbsp;</p><p>After storytime, we'll craft a bee that flies from one flower to another.</p><p>&nbsp;</p><p>&nbsp;</p><p>&nbsp;</p><p>&nbsp;</p><p>&nbsp;</p>
LOCATION:Hemphill Branch Library\, 2301 W. Vandalia Rd. Greensboro\, North Carolina 27407
CLASS:PUBLIC
END:VEVENT
END:VCALENDAR
