BEGIN:VCALENDAR
VERSION:2.0
PRODID:Greensboro, NC Calendar Creator
METHOD:PUBLISH
BEGIN:VEVENT
DTSTAMP:20260318T150759
DTSTART:20260715T183000
DTEND:20260715T193000
SUMMARY:Teens Create: Resin Jewelry
DESCRIPTION:<p>Beautiful translucent jewelry can be found on many popular craft sites. We'll create our own UV resin pendants with dried flowers and tiny shells. This activity is best for ages 11 – 18.</p><p>&nbsp;</p><p>&nbsp;</p><p>&nbsp;</p>
X-ALT-DESC;FMTTYPE=text/html:<p>Beautiful translucent jewelry can be found on many popular craft sites. We'll create our own UV resin pendants with dried flowers and tiny shells. This activity is best for ages 11 – 18.</p><p>&nbsp;</p><p>&nbsp;</p><p>&nbsp;</p>
LOCATION:Hemphill Branch Library\, 2301 W. Vandalia Rd. Greensboro\, North Carolina 27407
CLASS:PUBLIC
END:VEVENT
END:VCALENDAR
