BEGIN:VCALENDAR
VERSION:2.0
PRODID:Greensboro, NC Calendar Creator
METHOD:PUBLISH
BEGIN:VEVENT
DTSTAMP:20260318T150607
DTSTART:20260820T103000
DTEND:20260820T113000
SUMMARY:Preschool Storytime at Hemphill Branch
DESCRIPTION:<p>Some of our friends will be going to school. What will they do all day? Ms. Marya will present stories all about having fun at school.&nbsp;Preschoolers and toddlers, along with parents and caregivers, are invited to enjoy stories, songs, and movement activities. Storytime combines literacy and fun for young children.&nbsp;</p><p>After storytime, we'll play with sensory toys.</p><p></p><p>&nbsp;</p><p>&nbsp;</p>
X-ALT-DESC;FMTTYPE=text/html:<p>Some of our friends will be going to school. What will they do all day? Ms. Marya will present stories all about having fun at school.&nbsp;Preschoolers and toddlers, along with parents and caregivers, are invited to enjoy stories, songs, and movement activities. Storytime combines literacy and fun for young children.&nbsp;</p><p>After storytime, we'll play with sensory toys.</p><p></p><p>&nbsp;</p><p>&nbsp;</p>
LOCATION:Hemphill Branch Library\, 2301 W. Vandalia Rd. Greensboro\, North Carolina 27407
CLASS:PUBLIC
END:VEVENT
END:VCALENDAR
