BEGIN:VCALENDAR
VERSION:2.0
PRODID:Greensboro, NC Calendar Creator
METHOD:PUBLISH
BEGIN:VEVENT
DTSTAMP:20260318T150452
DTSTART:20260618T103000
DTEND:20260618T113000
SUMMARY:Preschool Dino Fest at Hemphill Branch
DESCRIPTION:<p>You'll have a roaring good time at this extra special dinosaur event. We'll have several stations with craft and play activities that are just perfect for children ages 2 -7. Dig for dinosaurs and more.</p><p></p><p>&nbsp;</p><p>&nbsp;</p><p>&nbsp;</p><p>&nbsp;</p><p>&nbsp;</p>
X-ALT-DESC;FMTTYPE=text/html:<p>You'll have a roaring good time at this extra special dinosaur event. We'll have several stations with craft and play activities that are just perfect for children ages 2 -7. Dig for dinosaurs and more.</p><p></p><p>&nbsp;</p><p>&nbsp;</p><p>&nbsp;</p><p>&nbsp;</p><p>&nbsp;</p>
LOCATION:Hemphill Branch Library\, 2301 W. Vandalia Rd. Greensboro\, North Carolina 27407
CLASS:PUBLIC
END:VEVENT
END:VCALENDAR
