BEGIN:VCALENDAR
VERSION:2.0
PRODID:Greensboro, NC Calendar Creator
METHOD:PUBLISH
BEGIN:VEVENT
DTSTAMP:20260318T150316
DTSTART:20260516T150000
DTEND:20260516T160000
SUMMARY:Studio Saturday: Pool Noodle Construction
DESCRIPTION:<p>Let's explore water-related STEAM with this unique activity. We'll get crafty with pool noodle pieces, straws, and pipe cleaners. Will your creation float? This is a family event.</p><p></p><p>&nbsp;</p><p>&nbsp;</p><p>&nbsp;</p><p>&nbsp;</p>
X-ALT-DESC;FMTTYPE=text/html:<p>Let's explore water-related STEAM with this unique activity. We'll get crafty with pool noodle pieces, straws, and pipe cleaners. Will your creation float? This is a family event.</p><p></p><p>&nbsp;</p><p>&nbsp;</p><p>&nbsp;</p><p>&nbsp;</p>
LOCATION:Hemphill Branch Library\, 2301 W. Vandalia Rd. Greensboro\, North Carolina 27407
CLASS:PUBLIC
END:VEVENT
END:VCALENDAR
