BEGIN:VCALENDAR
VERSION:2.0
PRODID:Greensboro, NC Calendar Creator
METHOD:PUBLISH
BEGIN:VEVENT
DTSTAMP:20260318T150229
DTSTART:20260708T100000
DTEND:20260708T103000
SUMMARY:Baby Storytime at Glenwood Branch Library
DESCRIPTION:<p>&nbsp;These storytimes involve board books, songs, and rhymes that help babies with language acquisition and pre-literacy skills. This is a great opportunity to read, play, and have fun together. This program is best for babies from birth to just beginning to walk.</p><p></p>
X-ALT-DESC;FMTTYPE=text/html:<p>&nbsp;These storytimes involve board books, songs, and rhymes that help babies with language acquisition and pre-literacy skills. This is a great opportunity to read, play, and have fun together. This program is best for babies from birth to just beginning to walk.</p><p></p>
LOCATION:Glenwood Branch Library\, 1901 W. Florida St. Greensboro\, North Carolina 27403
CLASS:PUBLIC
END:VEVENT
END:VCALENDAR
