BEGIN:VCALENDAR
VERSION:2.0
PRODID:Greensboro, NC Calendar Creator
METHOD:PUBLISH
BEGIN:VEVENT
DTSTAMP:20260318T140707
DTSTART:20260518T183000
DTEND:20260518T200000
SUMMARY:Author Spotlight: Leigh Ann Henion
DESCRIPTION:<div ltr="" scxw194030264="" bcx0"=""><p scxw194030264="" bcx0"="" paraid="1585010155" paraeid="{5e1cbcb9-64fe-44d8-bc4c-04c0c5074ac5}{15}">Join us for an evening with New York Times best-selling author Leigh Ann Henion, as she shares insights from her book, <em>Night Magic: Adventures Among Glowworms, Moon Gardens, and Other Marvels of the Dark</em>. Known for her immersive explorations of the natural world, Henion invites readers to embrace the beauty and mystery of nature after dark.&nbsp;&nbsp;</p></div><div ltr="" scxw194030264="" bcx0"=""><p scxw194030264="" bcx0"="" paraid="1877085429" paraeid="{5e1cbcb9-64fe-44d8-bc4c-04c0c5074ac5}{59}">Henion and environmental educator C.T. Finney will&nbsp;discuss the power of darkness in the lives of so many animals, and the deep connections between storytelling and environmental awareness.&nbsp;After the discussion, participants&nbsp;can&nbsp;take part in a guided outdoor activity. To register, e-mail <a href="mailto:melanie.buckingham@greensboro-nc.gov?subject=Register for Leigh Ann Henion" id="melanie.buckingham@greensboro-nc.gov" title="Register for Leigh Ann Henion">Melanie Buckingham</a>.</p></div>
X-ALT-DESC;FMTTYPE=text/html:<div ltr="" scxw194030264="" bcx0"=""><p scxw194030264="" bcx0"="" paraid="1585010155" paraeid="{5e1cbcb9-64fe-44d8-bc4c-04c0c5074ac5}{15}">Join us for an evening with New York Times best-selling author Leigh Ann Henion, as she shares insights from her book, <em>Night Magic: Adventures Among Glowworms, Moon Gardens, and Other Marvels of the Dark</em>. Known for her immersive explorations of the natural world, Henion invites readers to embrace the beauty and mystery of nature after dark.&nbsp;&nbsp;</p></div><div ltr="" scxw194030264="" bcx0"=""><p scxw194030264="" bcx0"="" paraid="1877085429" paraeid="{5e1cbcb9-64fe-44d8-bc4c-04c0c5074ac5}{59}">Henion and environmental educator C.T. Finney will&nbsp;discuss the power of darkness in the lives of so many animals, and the deep connections between storytelling and environmental awareness.&nbsp;After the discussion, participants&nbsp;can&nbsp;take part in a guided outdoor activity. To register, e-mail <a href="mailto:melanie.buckingham@greensboro-nc.gov?subject=Register for Leigh Ann Henion" id="melanie.buckingham@greensboro-nc.gov" title="Register for Leigh Ann Henion">Melanie Buckingham</a>.</p></div>
LOCATION:Kathleen Clay Edwards Family Branch Library\, 1420 Price Park Rd. Greensboro\, North Carolina 27410
CLASS:PUBLIC
END:VEVENT
END:VCALENDAR
