BEGIN:VCALENDAR
VERSION:2.0
PRODID:Greensboro, NC Calendar Creator
METHOD:PUBLISH
BEGIN:VEVENT
DTSTAMP:20260317T165429
DTSTART:20260729T143000
DTEND:20260729T153000
SUMMARY:Shark Teeth Explorers at Central Library
DESCRIPTION:<p dir="ltr">Dig deep and unearth the world of ancient sharks. Children will learn about fossils, shark teeth, and how scientists discover them through an engaging presentation, stories and interactive fun. Then it's time to hunt! Search for hidden shark teeth, identify different shark species, and enjoy a hands on craft.</p><p dir="ltr"></p><div></div>
X-ALT-DESC;FMTTYPE=text/html:<p dir="ltr">Dig deep and unearth the world of ancient sharks. Children will learn about fossils, shark teeth, and how scientists discover them through an engaging presentation, stories and interactive fun. Then it's time to hunt! Search for hidden shark teeth, identify different shark species, and enjoy a hands on craft.</p><p dir="ltr"></p><div></div>
LOCATION:Central Library\, 219 N. Church St. Greensboro\, North Carolina 27401
CLASS:PUBLIC
END:VEVENT
END:VCALENDAR
