BEGIN:VCALENDAR
VERSION:2.0
PRODID:Greensboro, NC Calendar Creator
METHOD:PUBLISH
BEGIN:VEVENT
DTSTAMP:20260317T164826
DTSTART:20260821T163000
DTEND:20260821T173000
SUMMARY:Ice Cream Social
DESCRIPTION:Join us for ice cream and fun as we say goodbye to summer! Families are invited to celebrate a season of reading, learning, and community connection with games, music and sweet treats. This end-of-summer gathering offers an opportunity for neighbors to come together, reflect on summer accomplishments, and prepare for a strong start to the school year.&nbsp;&nbsp;
X-ALT-DESC;FMTTYPE=text/html:Join us for ice cream and fun as we say goodbye to summer! Families are invited to celebrate a season of reading, learning, and community connection with games, music and sweet treats. This end-of-summer gathering offers an opportunity for neighbors to come together, reflect on summer accomplishments, and prepare for a strong start to the school year.&nbsp;&nbsp;
LOCATION:McGirt-Horton Branch Library\, 2501 Phillips Ave. Greensboro\, North Carolina 27405
CLASS:PUBLIC
END:VEVENT
END:VCALENDAR
