BEGIN:VCALENDAR
VERSION:2.0
PRODID:Greensboro, NC Calendar Creator
METHOD:PUBLISH
BEGIN:VEVENT
DTSTAMP:20260317T164140
DTSTART:20260507T183000
DTEND:20260507T203000
SUMMARY:AAPI Heritage Month Cinema Series: "Once We Were Warriors"
DESCRIPTION:<p></p><p style="text-align: left;"><span style="text-align: left;"></span></p><div unselectable="on" class="rrHandle rrSW" style="position: absolute; cursor: sw-resize; z-index: auto; height: 7px; width: 7px; top: 233.5px; left: 17.5px;"></div><div unselectable="on" class="rrHandle rrS" style="position: absolute; cursor: s-resize; z-index: auto; height: 7px; width: 7px; top: 233.5px; left: 195.5px;"></div><div unselectable="on" class="rrHandle rrSE" style="position: absolute; cursor: se-resize; z-index: auto; height: 7px; width: 7px; top: 233.5px; left: 373.5px;"></div><div unselectable="on" class="rrHandle rrE" style="position: absolute; cursor: e-resize; z-index: auto; height: 7px; width: 7px; top: 133.5px; left: 373.5px;"></div><div unselectable="on" class="rrHandle rrNE" style="position: absolute; cursor: ne-resize; z-index: auto; height: 7px; width: 7px; top: 33.5px; left: 373.5px;"></div><div unselectable="on" class="rrHandle rrN" style="position: absolute; cursor: n-resize; z-index: auto; height: 7px; width: 7px; top: 33.5px; left: 195.5px;"></div><div unselectable="on" class="rrHandle rrNW" style="position: absolute; cursor: nw-resize; z-index: auto; height: 7px; width: 7px; top: 33.5px; left: 17.5px;"></div><div unselectable="on" class="rrHandle rrW" style="position: absolute; cursor: w-resize; z-index: auto; height: 7px; width: 7px; top: 133.5px; left: 17.5px;"></div><span style="text-align: left;">Join us for the Hemphill Branch's AAPI Heritage Month Cinema Series, a month long showcase of classic and contemporary films created by Asian, Asian American, and Pacific Islander actors, writers, directors, and filmmakers. From the hard-hitting social commentary of <em>Parasite </em>to the magical musical adventure of <em>Moana</em>, each film explores a different aspect of the Asian/AAPI story across theme and genre.</span><p>&nbsp;</p><p>On Thursday, May 7 at 6:30 pm, we are screening the award winning drama&nbsp;<em>Once We Were Warriors</em> (1994), starring&nbsp;Rena Owen, Temuera Morrison, and Cliff Curtis.</p><p>Here is a description of the film: "A family descended from Maori warriors is bedeviled by a violent father and the societal problems of being treated as outcasts.."</p><div><p>The film is rated R. This program is for adults. Learn more about the film <a href="https://en.wikipedia.org/wiki/Once_Were_Warriors_(film)" target="_blank" rel="noopener">here</a>.&nbsp;</p><p>For more information, please contact <a href="mailto:&#114;&#111;&#110;&#97;&#108;&#100;&#46;&#104;&#101;&#97;&#100;&#101;&#110;&#64;&#103;&#114;&#101;&#101;&#110;&#115;&#98;&#111;&#114;&#111;&#45;&#110;&#99;&#46;&#103;&#111;&#118;">Ron</a>.</p><p><p style="text-align: center;"></p></p></div><div></div>
X-ALT-DESC;FMTTYPE=text/html:<p></p><p style="text-align: left;"><span style="text-align: left;"></span></p><div unselectable="on" class="rrHandle rrSW" style="position: absolute; cursor: sw-resize; z-index: auto; height: 7px; width: 7px; top: 233.5px; left: 17.5px;"></div><div unselectable="on" class="rrHandle rrS" style="position: absolute; cursor: s-resize; z-index: auto; height: 7px; width: 7px; top: 233.5px; left: 195.5px;"></div><div unselectable="on" class="rrHandle rrSE" style="position: absolute; cursor: se-resize; z-index: auto; height: 7px; width: 7px; top: 233.5px; left: 373.5px;"></div><div unselectable="on" class="rrHandle rrE" style="position: absolute; cursor: e-resize; z-index: auto; height: 7px; width: 7px; top: 133.5px; left: 373.5px;"></div><div unselectable="on" class="rrHandle rrNE" style="position: absolute; cursor: ne-resize; z-index: auto; height: 7px; width: 7px; top: 33.5px; left: 373.5px;"></div><div unselectable="on" class="rrHandle rrN" style="position: absolute; cursor: n-resize; z-index: auto; height: 7px; width: 7px; top: 33.5px; left: 195.5px;"></div><div unselectable="on" class="rrHandle rrNW" style="position: absolute; cursor: nw-resize; z-index: auto; height: 7px; width: 7px; top: 33.5px; left: 17.5px;"></div><div unselectable="on" class="rrHandle rrW" style="position: absolute; cursor: w-resize; z-index: auto; height: 7px; width: 7px; top: 133.5px; left: 17.5px;"></div><span style="text-align: left;">Join us for the Hemphill Branch's AAPI Heritage Month Cinema Series, a month long showcase of classic and contemporary films created by Asian, Asian American, and Pacific Islander actors, writers, directors, and filmmakers. From the hard-hitting social commentary of <em>Parasite </em>to the magical musical adventure of <em>Moana</em>, each film explores a different aspect of the Asian/AAPI story across theme and genre.</span><p>&nbsp;</p><p>On Thursday, May 7 at 6:30 pm, we are screening the award winning drama&nbsp;<em>Once We Were Warriors</em> (1994), starring&nbsp;Rena Owen, Temuera Morrison, and Cliff Curtis.</p><p>Here is a description of the film: "A family descended from Maori warriors is bedeviled by a violent father and the societal problems of being treated as outcasts.."</p><div><p>The film is rated R. This program is for adults. Learn more about the film <a href="https://en.wikipedia.org/wiki/Once_Were_Warriors_(film)" target="_blank" rel="noopener">here</a>.&nbsp;</p><p>For more information, please contact <a href="mailto:&#114;&#111;&#110;&#97;&#108;&#100;&#46;&#104;&#101;&#97;&#100;&#101;&#110;&#64;&#103;&#114;&#101;&#101;&#110;&#115;&#98;&#111;&#114;&#111;&#45;&#110;&#99;&#46;&#103;&#111;&#118;">Ron</a>.</p><p><p style="text-align: center;"></p></p></div><div></div>
LOCATION:Hemphill Branch Library\, 2301 W. Vandalia Rd. Greensboro\, North Carolina 27407
CLASS:PUBLIC
END:VEVENT
END:VCALENDAR
