BEGIN:VCALENDAR
VERSION:2.0
PRODID:Greensboro, NC Calendar Creator
METHOD:PUBLISH
BEGIN:VEVENT
DTSTAMP:20260317T163253
DTSTART:20260625T100000
DTEND:20260625T110000
SUMMARY:Mad Science at Glenwood Branch Library
DESCRIPTION:<p dir="ltr">Experience science, humor and fun during this interactive, out-of-this world presentation by science educators for ages 5 to 12.</p><p dir="ltr"></p><div></div>
X-ALT-DESC;FMTTYPE=text/html:<p dir="ltr">Experience science, humor and fun during this interactive, out-of-this world presentation by science educators for ages 5 to 12.</p><p dir="ltr"></p><div></div>
LOCATION:Glenwood Branch Library\, 1901 W. Florida St. Greensboro\, North Carolina 27403
CLASS:PUBLIC
END:VEVENT
END:VCALENDAR
