BEGIN:VCALENDAR
VERSION:2.0
PRODID:Greensboro, NC Calendar Creator
METHOD:PUBLISH
BEGIN:VEVENT
DTSTAMP:20260317T163222
DTSTART:20260629T140000
DTEND:20260629T153000
SUMMARY:Red, White, and BOOM! at the Glenwood Branch Library
DESCRIPTION:<p>Celebrate America’s 250th birthday with a fun-filled, hands-on history event for children and families! Explore Revolutionary-era games, crafts, and activities—make a tricorn hat, crack secret spy codes, play with colonial toys, and learn about North Carolina pirates' role in the Revolution. Enjoy red, white, and blue crafts, music, a photo op, and more.&nbsp;Drop in&nbsp;and discover history through play!&nbsp; All ages are welcome.&nbsp;</p><p></p><p>&nbsp;</p>
X-ALT-DESC;FMTTYPE=text/html:<p>Celebrate America’s 250th birthday with a fun-filled, hands-on history event for children and families! Explore Revolutionary-era games, crafts, and activities—make a tricorn hat, crack secret spy codes, play with colonial toys, and learn about North Carolina pirates' role in the Revolution. Enjoy red, white, and blue crafts, music, a photo op, and more.&nbsp;Drop in&nbsp;and discover history through play!&nbsp; All ages are welcome.&nbsp;</p><p></p><p>&nbsp;</p>
LOCATION:Glenwood Branch Library\, 1901 W. Florida St. Greensboro\, North Carolina 27403
CLASS:PUBLIC
END:VEVENT
END:VCALENDAR
